BEGIN:VCALENDAR
VERSION:2.0
PRODID:-//eventon.com NONSGML v1.0//EN
CALSCALE:GREGORIAN
METHOD:PUBLISH
BEGIN:VEVENT
UID:69e5e7cd822cd
DTSTAMP:20260420T084605Z
DTSTART:20260702
DTEND:20260703
LOCATION:
SUMMARY:Thalian Hall Live Theatre Shows
DESCRIPTION:Join all the unexpected fun of a local theater production! Thal
 ian Hall continues a 160+ year tradition of showcasing over 30 local organi
 zations including Big Dawg Productions\,  Opera House Theatre Company\,  Te
 chmoja Dance and Theatre Company and Thalian Association Community Theatre.
  Enjoy drama\,  comedy\,  musicals and more in their ever[..]\nhttps://www.
 justforbuyersrealty.com/events/thalian-hall-live-theatre-shows-3/
URL:https://www.justforbuyersrealty.com/events/thalian-hall-live-theatre-shows-3/
END:VEVENT
END:VCALENDAR